BEGIN:VCALENDAR
VERSION:2.0
PRODID:-//KidWind - ECPv6.15.18//NONSGML v1.0//EN
CALSCALE:GREGORIAN
METHOD:PUBLISH
X-WR-CALNAME:KidWind
X-ORIGINAL-URL:https://kidwind.org
X-WR-CALDESC:Events for KidWind
REFRESH-INTERVAL;VALUE=DURATION:PT1H
X-Robots-Tag:noindex
X-PUBLISHED-TTL:PT1H
BEGIN:VTIMEZONE
TZID:America/New_York
BEGIN:DAYLIGHT
TZOFFSETFROM:-0500
TZOFFSETTO:-0400
TZNAME:EDT
DTSTART:20230312T070000
END:DAYLIGHT
BEGIN:STANDARD
TZOFFSETFROM:-0400
TZOFFSETTO:-0500
TZNAME:EST
DTSTART:20231105T060000
END:STANDARD
BEGIN:DAYLIGHT
TZOFFSETFROM:-0500
TZOFFSETTO:-0400
TZNAME:EDT
DTSTART:20240310T070000
END:DAYLIGHT
BEGIN:STANDARD
TZOFFSETFROM:-0400
TZOFFSETTO:-0500
TZNAME:EST
DTSTART:20241103T060000
END:STANDARD
BEGIN:DAYLIGHT
TZOFFSETFROM:-0500
TZOFFSETTO:-0400
TZNAME:EDT
DTSTART:20250309T070000
END:DAYLIGHT
BEGIN:STANDARD
TZOFFSETFROM:-0400
TZOFFSETTO:-0500
TZNAME:EST
DTSTART:20251102T060000
END:STANDARD
BEGIN:DAYLIGHT
TZOFFSETFROM:-0500
TZOFFSETTO:-0400
TZNAME:EDT
DTSTART:20260308T070000
END:DAYLIGHT
BEGIN:STANDARD
TZOFFSETFROM:-0400
TZOFFSETTO:-0500
TZNAME:EST
DTSTART:20261101T060000
END:STANDARD
BEGIN:DAYLIGHT
TZOFFSETFROM:-0500
TZOFFSETTO:-0400
TZNAME:EDT
DTSTART:20270314T070000
END:DAYLIGHT
BEGIN:STANDARD
TZOFFSETFROM:-0400
TZOFFSETTO:-0500
TZNAME:EST
DTSTART:20271107T060000
END:STANDARD
END:VTIMEZONE
BEGIN:VTIMEZONE
TZID:America/Chicago
BEGIN:DAYLIGHT
TZOFFSETFROM:-0600
TZOFFSETTO:-0500
TZNAME:CDT
DTSTART:20240310T080000
END:DAYLIGHT
BEGIN:STANDARD
TZOFFSETFROM:-0500
TZOFFSETTO:-0600
TZNAME:CST
DTSTART:20241103T070000
END:STANDARD
BEGIN:DAYLIGHT
TZOFFSETFROM:-0600
TZOFFSETTO:-0500
TZNAME:CDT
DTSTART:20250309T080000
END:DAYLIGHT
BEGIN:STANDARD
TZOFFSETFROM:-0500
TZOFFSETTO:-0600
TZNAME:CST
DTSTART:20251102T070000
END:STANDARD
BEGIN:DAYLIGHT
TZOFFSETFROM:-0600
TZOFFSETTO:-0500
TZNAME:CDT
DTSTART:20260308T080000
END:DAYLIGHT
BEGIN:STANDARD
TZOFFSETFROM:-0500
TZOFFSETTO:-0600
TZNAME:CST
DTSTART:20261101T070000
END:STANDARD
END:VTIMEZONE
BEGIN:VEVENT
DTSTART;TZID=America/New_York:20241118T203000
DTEND;TZID=America/New_York:20241118T213000
DTSTAMP:20260424T072952
CREATED:20241105T004449Z
LAST-MODIFIED:20241105T004449Z
UID:10000231-1731961800-1731965400@kidwind.org
SUMMARY:Solar Challenge Webinar
DESCRIPTION:Join us to learn about the big changes happening with Solar Challenge and dig into the new Solar Guidebook! \nThis year we revamped the Solar Challenge with the help of an amazing solar committee made up of KidWind organizers. In this new version of the Solar Challenge\, student teams in grades 4th-12th participate in age-level divisions to create a solar powered project on the theme Solar Home. A solar home is a type of structure that considers the environment\, the inhabitants\, and its functional and aesthetic design. Learn more about the new Guidelines here. \nThis webinar is a chance to learn more about all things Solar and ask any questions that have come up. \n 
URL:https://kidwind.org/event/solar-challenge-webinar/
CATEGORIES:Preparing for KidWind Challenge,Webinars
LOCATION:https://us02web.zoom.us/j/86539052178
END:VEVENT
BEGIN:VEVENT
DTSTART;TZID=America/New_York:20241119T180000
DTEND;TZID=America/New_York:20241119T190000
DTSTAMP:20260424T072952
CREATED:20241024T215959Z
LAST-MODIFIED:20241106T193938Z
UID:10000225-1732039200-1732042800@kidwind.org
SUMMARY:Wind Art Challenge Webinar
DESCRIPTION:Join us to learn about the 2025 National Wind Energy Art Challenge! For the second year\, KidWind\, supported by the U.S. Department of Energy’s Wind Energy Technologies Office\, invites students from kindergarten through 8th grade across the United States to create artwork on the theme “Beautiful Wind Energy.” During this informational webinar we will share important submission guidelines and dates to keep in mind.
URL:https://kidwind.org/event/national-wind-energy-art-challenge-informational-webinar/
CATEGORIES:Preparing for KidWind Challenge,Webinars
LOCATION:https://us02web.zoom.us/j/89535857278
END:VEVENT
BEGIN:VEVENT
DTSTART;TZID=America/Chicago:20250407T190000
DTEND;TZID=America/Chicago:20250407T190000
DTSTAMP:20260424T072952
CREATED:20250314T234602Z
LAST-MODIFIED:20250317T214814Z
UID:10000277-1744052400-1744052400@kidwind.org
SUMMARY:2025 World KidWind Challenge Info Session
DESCRIPTION:Join us for an info session on the 2025 World KidWind Challenge! This session will help people going to Worlds prepare for the event. We’ll announce parameters for solar home and wind tunnel testing\, the basics for this year’s Instant Challenges\, and event logistics and schedule. All coaches\, students\, families\, etc are welcome. RSVP or drop in using the link below. \nJoin us on Zoom HERE!
URL:https://kidwind.org/event/2025-world-kidwind-challenge-info-session/
CATEGORIES:Preparing for KidWind Challenge,Webinars
LOCATION:https://us02web.zoom.us/j/89316946960
END:VEVENT
BEGIN:VEVENT
DTSTART;TZID=America/New_York:20250416T190000
DTEND;TZID=America/New_York:20250416T200000
DTSTAMP:20260424T072952
CREATED:20240814T200629Z
LAST-MODIFIED:20250327T214134Z
UID:10000153-1744830000-1744833600@kidwind.org
SUMMARY:Tinker Time: World KidWind Challenge Preparation!
DESCRIPTION:Each month we’ll host a session taking a deeper dive into a technical component of designing a wind turbine or solar structure for competition\, from blade design to gearboxes. We’ll host a few students each month with experience on that topic to share what they’ve learned along the way. All KidWinders are invited – students\, educators\, coaches\, etc. \n\nTeachers are eligible for 1 contact hour of professional development credit upon request after completion of this webinar. Those wishing to receive contact hours must attend the entirety of the webinar\, and we ask that they have their camera on if possible. Please email Sarah at Sarah@KidWind.org after completion of the webinar if you would like to request a certificate of contact hours completed.
URL:https://kidwind.org/event/tinker-time-world-kidwind-challenge-preparation/
CATEGORIES:Preparing for KidWind Challenge,Tinker Times,Webinars
LOCATION:https://us02web.zoom.us/j/89462747850
END:VEVENT
BEGIN:VEVENT
DTSTART;TZID=America/New_York:20251028T190000
DTEND;TZID=America/New_York:20251028T201500
DTSTAMP:20260424T072952
CREATED:20250908T195335Z
LAST-MODIFIED:20250915T195905Z
UID:10000324-1761678000-1761682500@kidwind.org
SUMMARY:Road to the KidWind Challenge
DESCRIPTION:Join us for this free webinar that explores how to prepare your students for the in-person and online KidWind Challenge! This event will be co-hosted by KidWind Challenge organizers and Vernier specialists able to answer any and all questions!
URL:https://kidwind.org/event/road-to-the-kidwind-challenge/
CATEGORIES:Preparing for KidWind Challenge,Webinars
LOCATION:https://us02web.zoom.us/j/86758382471
END:VEVENT
BEGIN:VEVENT
DTSTART;TZID=America/New_York:20260419T180000
DTEND;TZID=America/New_York:20260419T190000
DTSTAMP:20260424T072952
CREATED:20260211T002835Z
LAST-MODIFIED:20260211T003642Z
UID:10000391-1776621600-1776625200@kidwind.org
SUMMARY:2026 World KidWind Challenge Info Session
DESCRIPTION:Join us for an info session on the 2026 World KidWind Challenge! This session will help people going to Worlds prepare for the event. We’ll announce parameters for solar home and wind tunnel testing\, the basics for this year’s Instant Challenges\, and event logistics and schedule. All coaches\, students\, families\, etc are welcome. RSVP or drop in using the link below. \nJoin us on Zoom HERE!
URL:https://kidwind.org/event/2026-world-kidwind-challenge-info-session/
CATEGORIES:Preparing for KidWind Challenge,Webinars,Worlds
LOCATION:https://us02web.zoom.us/j/88346062066
END:VEVENT
END:VCALENDAR