BEGIN:VCALENDAR
VERSION:2.0
PRODID:-//KidWind - ECPv6.15.18//NONSGML v1.0//EN
CALSCALE:GREGORIAN
METHOD:PUBLISH
X-ORIGINAL-URL:https://kidwind.org
X-WR-CALDESC:Events for KidWind
REFRESH-INTERVAL;VALUE=DURATION:PT1H
X-Robots-Tag:noindex
X-PUBLISHED-TTL:PT1H
BEGIN:VTIMEZONE
TZID:America/New_York
BEGIN:DAYLIGHT
TZOFFSETFROM:-0500
TZOFFSETTO:-0400
TZNAME:EDT
DTSTART:20230312T070000
END:DAYLIGHT
BEGIN:STANDARD
TZOFFSETFROM:-0400
TZOFFSETTO:-0500
TZNAME:EST
DTSTART:20231105T060000
END:STANDARD
BEGIN:DAYLIGHT
TZOFFSETFROM:-0500
TZOFFSETTO:-0400
TZNAME:EDT
DTSTART:20240310T070000
END:DAYLIGHT
BEGIN:STANDARD
TZOFFSETFROM:-0400
TZOFFSETTO:-0500
TZNAME:EST
DTSTART:20241103T060000
END:STANDARD
BEGIN:DAYLIGHT
TZOFFSETFROM:-0500
TZOFFSETTO:-0400
TZNAME:EDT
DTSTART:20250309T070000
END:DAYLIGHT
BEGIN:STANDARD
TZOFFSETFROM:-0400
TZOFFSETTO:-0500
TZNAME:EST
DTSTART:20251102T060000
END:STANDARD
END:VTIMEZONE
BEGIN:VEVENT
DTSTART;TZID=America/New_York:20241120T190000
DTEND;TZID=America/New_York:20241120T200000
DTSTAMP:20260421T145043
CREATED:20240822T203434Z
LAST-MODIFIED:20241203T221015Z
UID:10000170-1732129200-1732132800@kidwind.org
SUMMARY:Spark Sessions: Renewable Energy Waste - Panels & Batteries
DESCRIPTION:Each month we will host a guest to do a deep dive into one element of renewable energy for the KidWind network. Organizers\, educators\, and students are all invited to join. \nThis month’s Spark Session will focus on Renewable Energy Waste and feature presentations from the following speakers: \nKelly Weger\, Qcells – Kelly Weger is the Senior Director of Sustainability for Qcells\, the number one solar company in the U.S. She is a Registered Architect\, LEED Accredited Professional\, Certified Energy Auditor\, and author of a planet-friendly cookbook. Prior to joining Qcells\, she spent 10 years providing sustainability consulting and training for over 200 manufacturers\, across multiple industries\, and has spent 7 years appointed to the Indiana Recycling Market Development Board. \nMaria Jensen\, Recycling Electronics for Climate Action – Maria Jensen started her career in Environmental Health and Safety (EHS) in the electronic waste recycling industry\, after receiving a Masters in Global Health from the Norwegian University of Science and Technology and publishing research related to mercury contamination from electronic waste in International Journal of Environmental Research and Public Health. Today she is Co-Director of Recycling Electronics for Climate Action\, an electronic waste recycling industry association and advocacy organization based in Minnesota.
URL:https://kidwind.org/event/spark-sessions-november-renewable-energy-waste/
CATEGORIES:Spark Sessions,Webinars
LOCATION:https://us02web.zoom.us/j/81593833988
END:VEVENT
END:VCALENDAR