BEGIN:VCALENDAR
VERSION:2.0
PRODID:-//KidWind - ECPv6.15.18//NONSGML v1.0//EN
CALSCALE:GREGORIAN
METHOD:PUBLISH
X-WR-CALNAME:KidWind
X-ORIGINAL-URL:https://kidwind.org
X-WR-CALDESC:Events for KidWind
REFRESH-INTERVAL;VALUE=DURATION:PT1H
X-Robots-Tag:noindex
X-PUBLISHED-TTL:PT1H
BEGIN:VTIMEZONE
TZID:America/New_York
BEGIN:DAYLIGHT
TZOFFSETFROM:-0500
TZOFFSETTO:-0400
TZNAME:EDT
DTSTART:20240310T070000
END:DAYLIGHT
BEGIN:STANDARD
TZOFFSETFROM:-0400
TZOFFSETTO:-0500
TZNAME:EST
DTSTART:20241103T060000
END:STANDARD
BEGIN:DAYLIGHT
TZOFFSETFROM:-0500
TZOFFSETTO:-0400
TZNAME:EDT
DTSTART:20250309T070000
END:DAYLIGHT
BEGIN:STANDARD
TZOFFSETFROM:-0400
TZOFFSETTO:-0500
TZNAME:EST
DTSTART:20251102T060000
END:STANDARD
BEGIN:DAYLIGHT
TZOFFSETFROM:-0500
TZOFFSETTO:-0400
TZNAME:EDT
DTSTART:20260308T070000
END:DAYLIGHT
BEGIN:STANDARD
TZOFFSETFROM:-0400
TZOFFSETTO:-0500
TZNAME:EST
DTSTART:20261101T060000
END:STANDARD
END:VTIMEZONE
BEGIN:VEVENT
DTSTART;TZID=America/New_York:20250423T190000
DTEND;TZID=America/New_York:20250423T200000
DTSTAMP:20260421T055505
CREATED:20240814T200921Z
LAST-MODIFIED:20250408T144845Z
UID:10000154-1745434800-1745438400@kidwind.org
SUMMARY:Spark Sessions: Energy Optimization
DESCRIPTION:Each month we will host a guest to do a deep dive into one element of renewable energy for the KidWind network. Organizers\, educators\, and students are all invited to join. This month\, we will hear about energy optimization from Chris Torline from Trane. Chris will be talking about advanced energy optimization strategies for buildings and his work with schools using thermal storage\, AI\, and data analytics. \nAbout Chris Torline: \nWith a 25-year career dedicated to analyzing and optimizing building systems for performance\, energy efficiency\, and sustainability\, Chris is a seasoned expert in his field.  \nIn his role as an Educational Programs Engineer\, Chris collaborates with schools\, colleges\, and universities to integrate technology into inspirational teaching methods. He champions work-based and project-based learning opportunities\, believing that real and relevant projects can transform student anxiety and disconnection into a visionary and fulfilling future. \nChris’s greatest passion lies in helping others realize their potential to create new realities for themselves. By teaching the skills of creating from the inside out\, he inspires individuals to envision and achieve a life better than they ever imagined. \n\nTeachers are eligible for 1 contact hour of professional development credit upon request after completion of this webinar. Those wishing to receive contact hours must attend the entirety of the webinar\, and we ask that they have their camera on if possible. Please email Sarah at Sarah@KidWind.org after completion of the webinar if you would like to request a certificate of contact hours completed.
URL:https://kidwind.org/event/spark-sessions-april-energyoptimization/
CATEGORIES:Spark Sessions,Webinars
LOCATION:https://us02web.zoom.us/j/87244277149
END:VEVENT
END:VCALENDAR